BEGIN:VCALENDAR
PRODID:-//Microsoft Corporation//Outlook 16.0 MIMEDIR//EN
VERSION:2.0
METHOD:PUBLISH
X-CALSTART:20250818T000000
X-CALEND:20260815T000000
X-CLIPSTART:20250817T220000Z
X-CLIPEND:20260814T220000Z
X-WR-RELCALID:{0000002E-2836-464C-EF75-CDAD64C961CB}
X-WR-CALNAME:Schulferien/schulfreie Tage 2025/26
BEGIN:VEVENT
CLASS:PUBLIC
CREATED:20230323T094243Z
DTEND;VALUE=DATE:20260815
DTSTAMP:20230323T094411Z
DTSTART;VALUE=DATE:20260713
LAST-MODIFIED:20230323T094250Z
PRIORITY:5
SEQUENCE:0
SUMMARY;LANGUAGE=de-ch:Sommerferien
TRANSP:TRANSPARENT
UID:040000008200E00074C5B7101A82E00800000000E0E0BE32745DD901000000000000000
	01000000035CD4C2C3F64BE4EB4521E7AD07F92A8
X-MICROSOFT-CDO-BUSYSTATUS:FREE
X-MICROSOFT-CDO-IMPORTANCE:1
X-MICROSOFT-DISALLOW-COUNTER:FALSE
X-MS-OLK-AUTOFILLLOCATION:TRUE
X-MS-OLK-AUTOSTARTCHECK:FALSE
X-MS-OLK-CONFTYPE:0
END:VEVENT
BEGIN:VEVENT
CLASS:PUBLIC
CREATED:20230323T094230Z
DTEND;VALUE=DATE:20260711
DTSTAMP:20230323T094411Z
DTSTART;VALUE=DATE:20260710
LAST-MODIFIED:20230323T094230Z
PRIORITY:5
SEQUENCE:0
SUMMARY;LANGUAGE=de-ch:Schuljahresschluss (12.00 Uhr)
TRANSP:TRANSPARENT
UID:040000008200E00074C5B7101A82E008000000007047572B745DD901000000000000000
	01000000015660C5D2259FB479FC4EE3E5350C06A
X-MICROSOFT-CDO-BUSYSTATUS:FREE
X-MICROSOFT-CDO-IMPORTANCE:1
X-MICROSOFT-DISALLOW-COUNTER:FALSE
X-MS-OLK-AUTOSTARTCHECK:FALSE
X-MS-OLK-CONFTYPE:0
END:VEVENT
BEGIN:VEVENT
CLASS:PUBLIC
CREATED:20230323T094212Z
DTEND;VALUE=DATE:20260527
DTSTAMP:20230323T094411Z
DTSTART;VALUE=DATE:20260526
LAST-MODIFIED:20230323T094212Z
PRIORITY:5
SEQUENCE:0
SUMMARY;LANGUAGE=de-ch:Pfingstdienstag (Schulentwicklungstag)
TRANSP:TRANSPARENT
UID:040000008200E00074C5B7101A82E00800000000401D4E20745DD901000000000000000
	010000000C79944FCDC217A4590403293BC48D917
X-MICROSOFT-CDO-BUSYSTATUS:FREE
X-MICROSOFT-CDO-IMPORTANCE:1
X-MICROSOFT-DISALLOW-COUNTER:FALSE
X-MS-OLK-AUTOSTARTCHECK:FALSE
X-MS-OLK-CONFTYPE:0
END:VEVENT
BEGIN:VEVENT
CLASS:PUBLIC
CREATED:20230323T094206Z
DTEND;VALUE=DATE:20260526
DTSTAMP:20230323T094411Z
DTSTART;VALUE=DATE:20260525
LAST-MODIFIED:20230323T094206Z
PRIORITY:5
SEQUENCE:0
SUMMARY;LANGUAGE=de-ch:Pfingstmontag
TRANSP:TRANSPARENT
UID:040000008200E00074C5B7101A82E008000000006055BD1C745DD901000000000000000
	01000000069B3A8061596D6479609EFD6009CDB08
X-MICROSOFT-CDO-BUSYSTATUS:FREE
X-MICROSOFT-CDO-IMPORTANCE:1
X-MICROSOFT-DISALLOW-COUNTER:FALSE
X-MS-OLK-AUTOSTARTCHECK:FALSE
X-MS-OLK-CONFTYPE:0
END:VEVENT
BEGIN:VEVENT
CLASS:PUBLIC
CREATED:20230323T094152Z
DTEND;VALUE=DATE:20260516
DTSTAMP:20230323T094411Z
DTSTART;VALUE=DATE:20260515
LAST-MODIFIED:20230323T094152Z
PRIORITY:5
SEQUENCE:0
SUMMARY;LANGUAGE=de-ch:Auffahrtsbrücke
TRANSP:TRANSPARENT
UID:040000008200E00074C5B7101A82E0080000000050364514745DD901000000000000000
	010000000210996C512AE654E8B52C96595525BEE
X-MICROSOFT-CDO-BUSYSTATUS:FREE
X-MICROSOFT-CDO-IMPORTANCE:1
X-MICROSOFT-DISALLOW-COUNTER:FALSE
X-MS-OLK-AUTOSTARTCHECK:FALSE
X-MS-OLK-CONFTYPE:0
END:VEVENT
BEGIN:VEVENT
CLASS:PUBLIC
CREATED:20230323T094141Z
DTEND;VALUE=DATE:20260515
DTSTAMP:20230323T094411Z
DTSTART;VALUE=DATE:20260514
LAST-MODIFIED:20230323T094141Z
PRIORITY:5
SEQUENCE:0
SUMMARY;LANGUAGE=de-ch:Auffahrt
TRANSP:TRANSPARENT
UID:040000008200E00074C5B7101A82E00800000000402AA90D745DD901000000000000000
	01000000033CC90F2DC9C5948ABBD49393E5B3918
X-MICROSOFT-CDO-BUSYSTATUS:FREE
X-MICROSOFT-CDO-IMPORTANCE:1
X-MICROSOFT-DISALLOW-COUNTER:FALSE
X-MS-OLK-AUTOSTARTCHECK:FALSE
X-MS-OLK-CONFTYPE:0
END:VEVENT
BEGIN:VEVENT
CLASS:PUBLIC
CREATED:20230323T093819Z
DTEND;VALUE=DATE:20260502
DTSTAMP:20230323T094411Z
DTSTART;VALUE=DATE:20260501
LAST-MODIFIED:20230323T093819Z
PRIORITY:5
SEQUENCE:0
SUMMARY;LANGUAGE=de-ch:Tag der Arbeit (liegt in den Frühlingsferien)
TRANSP:TRANSPARENT
UID:040000008200E00074C5B7101A82E00800000000405DC195735DD901000000000000000
	01000000019C414898A4CA7429962B1E42AE52A44
X-MICROSOFT-CDO-BUSYSTATUS:FREE
X-MICROSOFT-CDO-IMPORTANCE:1
X-MICROSOFT-DISALLOW-COUNTER:FALSE
X-MS-OLK-AUTOSTARTCHECK:FALSE
X-MS-OLK-CONFTYPE:0
END:VEVENT
BEGIN:VEVENT
CLASS:PUBLIC
CREATED:20230323T093748Z
DTEND;VALUE=DATE:20260502
DTSTAMP:20230323T094411Z
DTSTART;VALUE=DATE:20260420
LAST-MODIFIED:20230323T093753Z
PRIORITY:5
SEQUENCE:0
SUMMARY;LANGUAGE=de-ch:Frühlingsferien
TRANSP:TRANSPARENT
UID:040000008200E00074C5B7101A82E0080000000040D9CB82735DD901000000000000000
	01000000018484DB32F7C1048AD9FB8BD83BB068E
X-MICROSOFT-CDO-BUSYSTATUS:FREE
X-MICROSOFT-CDO-IMPORTANCE:1
X-MICROSOFT-DISALLOW-COUNTER:FALSE
X-MS-OLK-AUTOFILLLOCATION:TRUE
X-MS-OLK-AUTOSTARTCHECK:FALSE
X-MS-OLK-CONFTYPE:0
END:VEVENT
BEGIN:VEVENT
CLASS:PUBLIC
CREATED:20230323T093728Z
DTEND;VALUE=DATE:20260407
DTSTAMP:20230323T094411Z
DTSTART;VALUE=DATE:20260403
LAST-MODIFIED:20230323T093735Z
PRIORITY:5
SEQUENCE:0
SUMMARY;LANGUAGE=de-ch:Ostern
TRANSP:TRANSPARENT
UID:040000008200E00074C5B7101A82E0080000000080AE4977735DD901000000000000000
	01000000045DF304598D1894B84AA7300FA92915A
X-MICROSOFT-CDO-BUSYSTATUS:FREE
X-MICROSOFT-CDO-IMPORTANCE:1
X-MICROSOFT-DISALLOW-COUNTER:FALSE
X-MS-OLK-AUTOFILLLOCATION:TRUE
X-MS-OLK-AUTOSTARTCHECK:FALSE
X-MS-OLK-CONFTYPE:0
END:VEVENT
BEGIN:VEVENT
CLASS:PUBLIC
CREATED:20230323T093153Z
DTEND;VALUE=DATE:20260403
DTSTAMP:20230323T094411Z
DTSTART;VALUE=DATE:20260402
LAST-MODIFIED:20230323T093154Z
PRIORITY:5
SEQUENCE:0
SUMMARY;LANGUAGE=de-ch:Schulschluss vor Ostern um 15.30 Uhr (inkl. Betreuun
	g)
TRANSP:TRANSPARENT
UID:040000008200E00074C5B7101A82E0080000000090F7B8AF725DD901000000000000000
	010000000B0FCF0CFC9600646812C261E7775466F
X-MICROSOFT-CDO-BUSYSTATUS:FREE
X-MICROSOFT-CDO-IMPORTANCE:1
X-MICROSOFT-DISALLOW-COUNTER:FALSE
X-MS-OLK-AUTOSTARTCHECK:FALSE
X-MS-OLK-CONFTYPE:0
END:VEVENT
BEGIN:VEVENT
CLASS:PUBLIC
CREATED:20230323T093135Z
DTEND;VALUE=DATE:20260224
DTSTAMP:20230323T094411Z
DTSTART;VALUE=DATE:20260223
LAST-MODIFIED:20230323T093135Z
PRIORITY:5
SEQUENCE:0
SUMMARY;LANGUAGE=de-ch:Fasnachtsmontag
TRANSP:TRANSPARENT
UID:040000008200E00074C5B7101A82E008000000009095B7A4725DD901000000000000000
	0100000007D451149ABA82C4EAD043748FBB72665
X-MICROSOFT-CDO-BUSYSTATUS:FREE
X-MICROSOFT-CDO-IMPORTANCE:1
X-MICROSOFT-DISALLOW-COUNTER:FALSE
X-MS-OLK-AUTOSTARTCHECK:FALSE
X-MS-OLK-CONFTYPE:0
END:VEVENT
BEGIN:VEVENT
CLASS:PUBLIC
CREATED:20230323T093104Z
DTEND;VALUE=DATE:20260214
DTSTAMP:20230323T094411Z
DTSTART;VALUE=DATE:20260202
LAST-MODIFIED:20230323T093112Z
PRIORITY:5
SEQUENCE:0
SUMMARY;LANGUAGE=de-ch:Sportferien
TRANSP:TRANSPARENT
UID:040000008200E00074C5B7101A82E00800000000401B0892725DD901000000000000000
	010000000306885F82B0F11439D1F23057A0E51AB
X-MICROSOFT-CDO-BUSYSTATUS:FREE
X-MICROSOFT-CDO-IMPORTANCE:1
X-MICROSOFT-DISALLOW-COUNTER:FALSE
X-MS-OLK-AUTOFILLLOCATION:TRUE
X-MS-OLK-AUTOSTARTCHECK:FALSE
X-MS-OLK-CONFTYPE:0
END:VEVENT
BEGIN:VEVENT
CLASS:PUBLIC
CREATED:20230323T093031Z
DTEND;VALUE=DATE:20260103
DTSTAMP:20230323T094411Z
DTSTART;VALUE=DATE:20251222
LAST-MODIFIED:20230323T093037Z
PRIORITY:5
SEQUENCE:0
SUMMARY;LANGUAGE=de-ch:Weihnachtsferien
TRANSP:TRANSPARENT
UID:040000008200E00074C5B7101A82E00800000000F060BC7E725DD901000000000000000
	010000000C8E95C4EE7632C4984037E2F7424D00D
X-MICROSOFT-CDO-BUSYSTATUS:FREE
X-MICROSOFT-CDO-IMPORTANCE:1
X-MICROSOFT-DISALLOW-COUNTER:FALSE
X-MS-OLK-AUTOFILLLOCATION:TRUE
X-MS-OLK-AUTOSTARTCHECK:FALSE
X-MS-OLK-CONFTYPE:0
END:VEVENT
BEGIN:VEVENT
CLASS:PUBLIC
CREATED:20230323T092846Z
DTEND;VALUE=DATE:20251220
DTSTAMP:20230323T094411Z
DTSTART;VALUE=DATE:20251219
LAST-MODIFIED:20230323T092846Z
PRIORITY:5
SEQUENCE:0
SUMMARY;LANGUAGE=de-ch:Schulsilvester (Kindergarten und Primarstufe)
TRANSP:TRANSPARENT
UID:040000008200E00074C5B7101A82E0080000000000D11B40725DD901000000000000000
	010000000EAEDF8C1BFC0C74381EC85FF802A3FFC
X-MICROSOFT-CDO-BUSYSTATUS:FREE
X-MICROSOFT-CDO-IMPORTANCE:1
X-MICROSOFT-DISALLOW-COUNTER:FALSE
X-MS-OLK-AUTOSTARTCHECK:FALSE
X-MS-OLK-CONFTYPE:0
END:VEVENT
BEGIN:VEVENT
CLASS:PUBLIC
CREATED:20230323T092817Z
DTEND;VALUE=DATE:20251219
DTSTAMP:20230323T094411Z
DTSTART;VALUE=DATE:20251218
LAST-MODIFIED:20230323T092817Z
PRIORITY:5
SEQUENCE:0
SUMMARY;LANGUAGE=de-ch:Schulsilvester (Sek\, abends)
TRANSP:TRANSPARENT
UID:040000008200E00074C5B7101A82E008000000006013A42E725DD901000000000000000
	0100000008D2B35042B511A4CBF94948B27C3A896
X-MICROSOFT-CDO-BUSYSTATUS:FREE
X-MICROSOFT-CDO-IMPORTANCE:1
X-MICROSOFT-DISALLOW-COUNTER:FALSE
X-MS-OLK-AUTOSTARTCHECK:FALSE
X-MS-OLK-CONFTYPE:0
END:VEVENT
BEGIN:VEVENT
CLASS:PUBLIC
CREATED:20230323T092715Z
DTEND;VALUE=DATE:20251018
DTSTAMP:20230323T094411Z
DTSTART;VALUE=DATE:20251006
LAST-MODIFIED:20230323T092725Z
PRIORITY:5
SEQUENCE:0
SUMMARY;LANGUAGE=de-ch:Herbstferien
TRANSP:TRANSPARENT
UID:040000008200E00074C5B7101A82E00800000000F0B39309725DD901000000000000000
	01000000083D8CEE3C80A1E46950497B92D2168C4
X-MICROSOFT-CDO-BUSYSTATUS:FREE
X-MICROSOFT-CDO-IMPORTANCE:1
X-MICROSOFT-DISALLOW-COUNTER:FALSE
X-MS-OLK-AUTOFILLLOCATION:TRUE
X-MS-OLK-AUTOSTARTCHECK:FALSE
X-MS-OLK-CONFTYPE:0
END:VEVENT
BEGIN:VEVENT
CLASS:PUBLIC
CREATED:20230323T092552Z
DTEND;VALUE=DATE:20250819
DTSTAMP:20230323T094411Z
DTSTART;VALUE=DATE:20250818
LAST-MODIFIED:20230323T092552Z
PRIORITY:5
SEQUENCE:0
SUMMARY;LANGUAGE=de-ch:Schuljahresbeginn
TRANSP:TRANSPARENT
UID:040000008200E00074C5B7101A82E00800000000A0314CD8715DD901000000000000000
	010000000FDC1C99182A7AF46835B9446CA7FB4A8
X-MICROSOFT-CDO-BUSYSTATUS:FREE
X-MICROSOFT-CDO-IMPORTANCE:1
X-MICROSOFT-DISALLOW-COUNTER:FALSE
X-MS-OLK-AUTOSTARTCHECK:FALSE
X-MS-OLK-CONFTYPE:0
END:VEVENT
END:VCALENDAR
